BEGIN:VCALENDAR
VERSION:2.0
PRODID:-//ARLEBOSC - ECPv6.15.20//NONSGML v1.0//EN
CALSCALE:GREGORIAN
METHOD:PUBLISH
X-WR-CALNAME:ARLEBOSC
X-ORIGINAL-URL:https://www.mairie-arlebosc.fr
X-WR-CALDESC:Évènements pour ARLEBOSC
REFRESH-INTERVAL;VALUE=DURATION:PT1H
X-Robots-Tag:noindex
X-PUBLISHED-TTL:PT1H
BEGIN:VTIMEZONE
TZID:Europe/Helsinki
BEGIN:DAYLIGHT
TZOFFSETFROM:+0200
TZOFFSETTO:+0300
TZNAME:EEST
DTSTART:20250330T010000
END:DAYLIGHT
BEGIN:STANDARD
TZOFFSETFROM:+0300
TZOFFSETTO:+0200
TZNAME:EET
DTSTART:20251026T010000
END:STANDARD
BEGIN:DAYLIGHT
TZOFFSETFROM:+0200
TZOFFSETTO:+0300
TZNAME:EEST
DTSTART:20260329T010000
END:DAYLIGHT
BEGIN:STANDARD
TZOFFSETFROM:+0300
TZOFFSETTO:+0200
TZNAME:EET
DTSTART:20261025T010000
END:STANDARD
BEGIN:DAYLIGHT
TZOFFSETFROM:+0200
TZOFFSETTO:+0300
TZNAME:EEST
DTSTART:20270328T010000
END:DAYLIGHT
BEGIN:STANDARD
TZOFFSETFROM:+0300
TZOFFSETTO:+0200
TZNAME:EET
DTSTART:20271031T010000
END:STANDARD
END:VTIMEZONE
BEGIN:VEVENT
DTSTART;TZID=Europe/Helsinki:20260425T090000
DTEND;TZID=Europe/Helsinki:20260426T120000
DTSTAMP:20260426T012246
CREATED:20260419T194417Z
LAST-MODIFIED:20260419T194417Z
UID:6599-1777107600-1777204800@www.mairie-arlebosc.fr
SUMMARY:Marché aux Fleurs de l'Ecole Sainte Anne
DESCRIPTION:MARCHÉ AUX FLEURS 🪻🌷 ET PLANTS DE LÉGUMES 🍅🥬 à Arlebosc. \nLe samedi 25/04 et dimanche 26/04\, de 9h00 à 12h00\, sur la place du marché. \nCommande possible au 06.70.31.34.88 ou auprès des élèves de l’école d’arlebosc ou par mail ogec.arlebosc07410@gmail.com. \nCommande à rendre au plus tard le 20/04. \nNous vous attendons nombreux 😊 \nMerci d’apporter vos sacs ou cagettes si possible. \nBon de commande ci dessous 😉 Merci pour les enfants 🙏 \n  \n 
URL:https://www.mairie-arlebosc.fr/event/marche-aux-fleurs-de-lecole-sainte-anne/
CATEGORIES:Ecole (OGEC)
END:VEVENT
END:VCALENDAR