BEGIN:VCALENDAR
VERSION:2.0
PRODID:-//ARLEBOSC - ECPv6.15.20//NONSGML v1.0//EN
CALSCALE:GREGORIAN
METHOD:PUBLISH
X-ORIGINAL-URL:https://www.mairie-arlebosc.fr
X-WR-CALDESC:Évènements pour ARLEBOSC
REFRESH-INTERVAL;VALUE=DURATION:PT1H
X-Robots-Tag:noindex
X-PUBLISHED-TTL:PT1H
BEGIN:VTIMEZONE
TZID:UTC
BEGIN:STANDARD
TZOFFSETFROM:+0000
TZOFFSETTO:+0000
TZNAME:UTC
DTSTART:20200101T000000
END:STANDARD
END:VTIMEZONE
BEGIN:VEVENT
DTSTART;TZID=UTC:20211212T120000
DTEND;TZID=UTC:20211212T150000
DTSTAMP:20260423T012329
CREATED:20210123T165053Z
LAST-MODIFIED:20211203T174215Z
UID:879-1639310400-1639321200@www.mairie-arlebosc.fr
SUMMARY:Repas de Noël 2021 annulation et retrait des colis
DESCRIPTION:
URL:https://www.mairie-arlebosc.fr/event/repas-de-noel/
LOCATION:Salle des Fêtes\, 2MP3+M93 Arlebosc\, Arlebosc\, 07410\, France
CATEGORIES:CCAS
ORGANIZER;CN="CCAS":MAILTO:michel.andre@orange.fr
END:VEVENT
END:VCALENDAR