BEGIN:VCALENDAR
VERSION:2.0
PRODID:-//ARLEBOSC - ECPv6.15.20//NONSGML v1.0//EN
CALSCALE:GREGORIAN
METHOD:PUBLISH
X-WR-CALNAME:ARLEBOSC
X-ORIGINAL-URL:https://www.mairie-arlebosc.fr
X-WR-CALDESC:Évènements pour ARLEBOSC
REFRESH-INTERVAL;VALUE=DURATION:PT1H
X-Robots-Tag:noindex
X-PUBLISHED-TTL:PT1H
BEGIN:VTIMEZONE
TZID:Europe/Helsinki
BEGIN:DAYLIGHT
TZOFFSETFROM:+0200
TZOFFSETTO:+0300
TZNAME:EEST
DTSTART:20200329T010000
END:DAYLIGHT
BEGIN:STANDARD
TZOFFSETFROM:+0300
TZOFFSETTO:+0200
TZNAME:EET
DTSTART:20201025T010000
END:STANDARD
BEGIN:DAYLIGHT
TZOFFSETFROM:+0200
TZOFFSETTO:+0300
TZNAME:EEST
DTSTART:20210328T010000
END:DAYLIGHT
BEGIN:STANDARD
TZOFFSETFROM:+0300
TZOFFSETTO:+0200
TZNAME:EET
DTSTART:20211031T010000
END:STANDARD
BEGIN:DAYLIGHT
TZOFFSETFROM:+0200
TZOFFSETTO:+0300
TZNAME:EEST
DTSTART:20220327T010000
END:DAYLIGHT
BEGIN:STANDARD
TZOFFSETFROM:+0300
TZOFFSETTO:+0200
TZNAME:EET
DTSTART:20221030T010000
END:STANDARD
END:VTIMEZONE
BEGIN:VEVENT
DTSTART;TZID=Europe/Helsinki:20210611T200000
DTEND;TZID=Europe/Helsinki:20210611T220000
DTSTAMP:20260423T092638
CREATED:20210603T071733Z
LAST-MODIFIED:20210603T072108Z
UID:1666-1623441600-1623448800@www.mairie-arlebosc.fr
SUMMARY:Concert du Chœur d'Helvie à Lamastre
DESCRIPTION:Dans l’église de Macheville le 11 juin résonneront les voix des choristes du Choeur d’Helvie\, celles de Denis\, basse bien connue de tous maintenant et celle de Julie Petit\, soprane. Nouvelle venue au Choeur d’Helvie\, elle remplace Denis en tant que chef de chœur quand les concerts le retiennent à l’opéra de Lyon . Dotée d’une voix magnifique\, elle nous fera tous frémir et vibrer lors du concert du 11 juin. Et il y aura aussi le violoncelle de Lise qui nous fait le plaisir de revenir jouer pour nous régulièrement depuis 3 ans\, les violons de Juliette et Denis \, la harpe de Nathalie\, la cloche d’Olivia\, pour apporter plus de beauté encore à cette soirée.
URL:https://www.mairie-arlebosc.fr/event/concert-du-choeur-dhelvie/
LOCATION:Église de Macheville\, Eglise de Macheville\, Lamastre
CATEGORIES:Chorale
END:VEVENT
END:VCALENDAR